BEGIN:VCALENDAR
VERSION:2.0
BEGIN:VEVENT
DESCRIPTION;ENCODING=QUOTED-PRINTABLE:Finanssivalvonnan toimistopäällikön Pekka Vasaran yleisöluento Suomen Pankin rahamuseossa osoitteessa Snellmaninkatu 2, Helsinki. Tilaisuus alkaa klo 17, ja siihen on vapaa pääsy. Tervetuloa!=0D=0A
DTEND:20220419T150000Z
DTSTAMP:20220317T085342Z
DTSTART:20220419T140000Z
LOCATION:
SUMMARY:Rahanpesun estämisen valvonta Finanssivalvonnassa
END:VEVENT
END:VCALENDAR
