BEGIN:VCALENDAR
VERSION:2.0
BEGIN:VEVENT
DESCRIPTION;ENCODING=QUOTED-PRINTABLE:Seuraava päätös makrovakausvälineistä julkaistaan 22.3.=0D=0A
DTEND:20190321T220000Z
DTSTAMP:20190319T095610Z
DTSTART:20190321T220000Z
LOCATION:
SUMMARY:Päätös makrovakausvälineistä
END:VEVENT
END:VCALENDAR
