BEGIN:VCALENDAR
VERSION:2.0
BEGIN:VEVENT
DESCRIPTION;ENCODING=QUOTED-PRINTABLE:Makrovakauspäätös 4/2018=0D=0A
DTEND:20181230T220000Z
DTSTAMP:20181002T112954Z
DTSTART:20181130T220000Z
LOCATION:
SUMMARY:Makrovakauspäätös 4/2018
END:VEVENT
END:VCALENDAR
